BEGIN:VCALENDAR
VERSION:2.0
PRODID:spatie/icalendar-generator
DESCRIPTION:Veranstaltungen von Brandschutztechnik Meyer Hagen GmbH
X-WR-CALDESC:Veranstaltungen von Brandschutztechnik Meyer Hagen GmbH
REFRESH-INTERVAL;VALUE=DURATION:PT1440M
X-PUBLISHED-TTL:PT1440M
BEGIN:VTIMEZONE
TZID:Europe/Berlin
BEGIN:STANDARD
DTSTART:20251026T030000Z
TZOFFSETFROM:+0200
TZOFFSETTO:+0100
END:STANDARD
BEGIN:DAYLIGHT
DTSTART:20260329T020000Z
TZOFFSETFROM:+0100
TZOFFSETTO:+0200
END:DAYLIGHT
END:VTIMEZONE
BEGIN:VTIMEZONE
TZID:UTC
BEGIN:STANDARD
DTSTART:20250725T224246Z
TZOFFSETFROM:+0000
TZOFFSETTO:+0000
END:STANDARD
END:VTIMEZONE
BEGIN:VEVENT
UID:10-9
DTSTAMP:20260421T224246Z
SUMMARY:Brandschutzhelfer Sammelschulung für Gewerbekunden
LOCATION:Brandschutzzentrum Meyer-Hagen Heydastraße 13 - 15  Hagen NRW 580
 93
ORGANIZER;CN=Stefan Deitel:MAILTO:s.deitel@meyer-hagen.de
DTSTART;TZID=Europe/Berlin:20260318T090000
DTEND;TZID=Europe/Berlin:20260318T140000
X-ALT-DESC;FMTTYPE=TEXT/HTML:Zielgruppe Die Ausbildung richtet sich an Unte
 rnehmen aller Branchen\, Gewerbebetriebe\, Verwaltungen sowie Einrichtunge
 n\, die Mitarbeitende gemäß Arbeitsschutzvorschriften zu Brandschutzhelf
 ern qualifizieren möchten. Inhalte der Schulung Die Themen wurden speziel
 l auf die Anforderungen im gewerblichen Umfeld abgestimmt und vermitteln s
 owohl theoretische Grundlagen als auch praktische Handlungssicherheit. 1. 
 Theoretischer Teil Rechtliche Grundlagen (ArbSchG\, ASR A2.2\, DGUV Vorsch
 riften) Brandentstehung&amp;hellip\;
CATEGORIES:Gewerbe
URL;VALUE=URI:https://meyer-hagen.de/mc-events/brandschutzhelfer-sammelschu
 lung-fuer-gewerbekunden/
METHOD:PUBLISH
END:VEVENT
END:VCALENDAR