BEGIN:VCALENDAR
VERSION:2.0
PRODID:spatie/icalendar-generator
DESCRIPTION:Veranstaltungen von Brandschutztechnik Meyer Hagen GmbH
X-WR-CALDESC:Veranstaltungen von Brandschutztechnik Meyer Hagen GmbH
REFRESH-INTERVAL;VALUE=DURATION:PT1440M
X-PUBLISHED-TTL:PT1440M
BEGIN:VTIMEZONE
TZID:Europe/Berlin
BEGIN:STANDARD
DTSTART:20251026T030000Z
TZOFFSETFROM:+0200
TZOFFSETTO:+0100
END:STANDARD
BEGIN:DAYLIGHT
DTSTART:20260329T020000Z
TZOFFSETFROM:+0100
TZOFFSETTO:+0200
END:DAYLIGHT
END:VTIMEZONE
BEGIN:VTIMEZONE
TZID:UTC
BEGIN:STANDARD
DTSTART:20250725T224246Z
TZOFFSETFROM:+0000
TZOFFSETTO:+0000
END:STANDARD
END:VTIMEZONE
BEGIN:VEVENT
UID:13-11
DTSTAMP:20260421T224246Z
SUMMARY:Brandschutzhelfer Sammelschulung für Industriekunden
LOCATION:Brandschutzzentrum Meyer-Hagen Heydastraße 13 - 15  Hagen NRW 580
 93
ORGANIZER;CN=Stefan Deitel:MAILTO:s.deitel@meyer-hagen.de
DTSTART;TZID=Europe/Berlin:20260320T090000
DTEND;TZID=Europe/Berlin:20260320T140000
X-ALT-DESC;FMTTYPE=TEXT/HTML:Zielgruppe Diese Ausbildung richtet sich an In
 dustrieunternehmen\, Produktionsbetriebe\, Werkstätten\, verarbeitende Be
 triebe und technische Standorte\, die ihre Mitarbeitenden gemäß gesetzli
 chen Vorgaben (ASR A2.2\, DGUV) zur Brandschutzhelferqualifikation schulen
  möchten. Inhalte der Schulung Die Schulung kombiniert industrienahe Theo
 rie mit intensiver praktischer Ausbildung. Spezifische Risiken aus Produkt
 ionsbereichen\, technischen Anlagen und Gefahrstofflagern werden hierbei b
 esonders berücksichtigt. 1. Theoretischer Teil Gesetzliche&amp;hellip\;
CATEGORIES:Industrie
URL;VALUE=URI:https://meyer-hagen.de/mc-events/brandschutzhelfer-sammelschu
 lung-fuer-industriekunden/
METHOD:PUBLISH
END:VEVENT
END:VCALENDAR