BEGIN:VCALENDAR
VERSION:2.0
PRODID:spatie/icalendar-generator
DESCRIPTION:Veranstaltungen von Brandschutztechnik Meyer Hagen GmbH
X-WR-CALDESC:Veranstaltungen von Brandschutztechnik Meyer Hagen GmbH
REFRESH-INTERVAL;VALUE=DURATION:PT1440M
X-PUBLISHED-TTL:PT1440M
BEGIN:VTIMEZONE
TZID:Europe/Berlin
BEGIN:DAYLIGHT
DTSTART:20260329T020000Z
TZOFFSETFROM:+0100
TZOFFSETTO:+0200
END:DAYLIGHT
BEGIN:STANDARD
DTSTART:20261025T030000Z
TZOFFSETFROM:+0200
TZOFFSETTO:+0100
END:STANDARD
BEGIN:DAYLIGHT
DTSTART:20270328T020000Z
TZOFFSETFROM:+0100
TZOFFSETTO:+0200
END:DAYLIGHT
END:VTIMEZONE
BEGIN:VTIMEZONE
TZID:UTC
BEGIN:STANDARD
DTSTART:20250725T224456Z
TZOFFSETFROM:+0000
TZOFFSETTO:+0000
END:STANDARD
END:VTIMEZONE
BEGIN:VEVENT
UID:16-14
DTSTAMP:20260421T224456Z
SUMMARY:Brandschutzhelfer Sammelschulung für Kunden aus dem Handwerk
LOCATION:Brandschutzzentrum Meyer-Hagen Heydastraße 13 - 15  Hagen NRW 580
 93
ORGANIZER;CN=Stefan Deitel:MAILTO:s.deitel@meyer-hagen.de
DTSTART;TZID=Europe/Berlin:20261208T090000
DTEND;TZID=Europe/Berlin:20261208T140000
X-ALT-DESC;FMTTYPE=TEXT/HTML:Zielgruppe Diese Schulung richtet sich an alle
  Handwerksbetriebe – z. B. Bauunternehmen\, SHK‑Betriebe\, Elektrike
 r\, Maler‑ und Lackiererbetriebe\, Tischlereien\, Metallbaubetriebe\, Da
 chdecker usw. –\, die ihre Mitarbeitenden gemäß gesetzlichen Anforderu
 ngen (Arbeitsschutzgesetz\, DGUV) zum Brandschutzhelfer qualifizieren möc
 hten. Inhalte der Schulung Die Ausbildung verbindet handwerksnahe Theorie 
 mit einer intensiven praktischen Übungseinheit. Besonderheiten wie tempor
 äre Arbeitsstätten\, Materiallagerung und brandgefährliche Tätigkeiten
  werden&amp;hellip\;
CATEGORIES:Handwerk
URL;VALUE=URI:https://meyer-hagen.de/mc-events/brandschutzhelfer-sammelschu
 lung-fuer-kunden-aus-dem-handwerk-2/
METHOD:PUBLISH
END:VEVENT
END:VCALENDAR