BEGIN:VCALENDAR
VERSION:2.0
PRODID:spatie/icalendar-generator
DESCRIPTION:Veranstaltungen von Brandschutztechnik Meyer Hagen GmbH
X-WR-CALDESC:Veranstaltungen von Brandschutztechnik Meyer Hagen GmbH
REFRESH-INTERVAL;VALUE=DURATION:PT1440M
X-PUBLISHED-TTL:PT1440M
BEGIN:VTIMEZONE
TZID:Europe/Berlin
BEGIN:DAYLIGHT
DTSTART:20260329T020000Z
TZOFFSETFROM:+0100
TZOFFSETTO:+0200
END:DAYLIGHT
BEGIN:STANDARD
DTSTART:20261025T030000Z
TZOFFSETFROM:+0200
TZOFFSETTO:+0100
END:STANDARD
BEGIN:DAYLIGHT
DTSTART:20270328T020000Z
TZOFFSETFROM:+0100
TZOFFSETTO:+0200
END:DAYLIGHT
END:VTIMEZONE
BEGIN:VTIMEZONE
TZID:UTC
BEGIN:STANDARD
DTSTART:20250725T224454Z
TZOFFSETFROM:+0000
TZOFFSETTO:+0000
END:STANDARD
END:VTIMEZONE
BEGIN:VEVENT
UID:18-16
DTSTAMP:20260421T224454Z
SUMMARY:Freies Löschtraining für Privatkunden
LOCATION:Brandschutzzentrum Meyer-Hagen Heydastraße 13 - 15  Hagen NRW 580
 93
ORGANIZER;CN=Stefan Deitel:MAILTO:s.deitel@meyer-hagen.de
DTSTART;TZID=Europe/Berlin:20260925T140000
DTEND;TZID=Europe/Berlin:20260925T150000
X-ALT-DESC;FMTTYPE=TEXT/HTML:Ein Entstehungsbrand kann jederzeit und übera
 ll passieren – ob in der Küche\, im Garten oder in der Garage. Unser L
 öschtraining für Privatkunden vermittelt Ihnen in kurzer Zeit das nötig
 e Wissen und die praktische Sicherheit\, um im Ernstfall richtig zu handel
 n. Sie lernen verschiedene Feuerlöscherarten kennen und üben unter reali
 stischen Bedingungen\, wie kleine Brände effektiv gelöscht&amp;hellip\;
CATEGORIES:Löschtraining
URL;VALUE=URI:https://meyer-hagen.de/mc-events/freies-loeschtraining-fuer-p
 rivatkunden-2/
METHOD:PUBLISH
END:VEVENT
END:VCALENDAR