BEGIN:VCALENDAR
VERSION:2.0
PRODID:spatie/icalendar-generator
DESCRIPTION:Veranstaltungen von Brandschutztechnik Meyer Hagen GmbH
X-WR-CALDESC:Veranstaltungen von Brandschutztechnik Meyer Hagen GmbH
REFRESH-INTERVAL;VALUE=DURATION:PT1440M
X-PUBLISHED-TTL:PT1440M
BEGIN:VTIMEZONE
TZID:Europe/Berlin
BEGIN:STANDARD
DTSTART:20251026T030000Z
TZOFFSETFROM:+0200
TZOFFSETTO:+0100
END:STANDARD
BEGIN:DAYLIGHT
DTSTART:20260329T020000Z
TZOFFSETFROM:+0100
TZOFFSETTO:+0200
END:DAYLIGHT
END:VTIMEZONE
BEGIN:VTIMEZONE
TZID:UTC
BEGIN:STANDARD
DTSTART:20250725T205518Z
TZOFFSETFROM:+0000
TZOFFSETTO:+0000
END:STANDARD
END:VTIMEZONE
BEGIN:VEVENT
UID:2-2
DTSTAMP:20260421T205518Z
SUMMARY:Brandschutzhelfer Sammelschulung für Kindertageseinrichtungen
LOCATION:Brandschutzzentrum Meyer-Hagen Heydastraße 13 - 15  Hagen NRW 580
 93
ORGANIZER;CN=Stefan Deitel:MAILTO:s.deitel@meyer-hagen.de
DTSTART;TZID=Europe/Berlin:20260313T090000
DTEND;TZID=Europe/Berlin:20260313T140000
X-ALT-DESC;FMTTYPE=TEXT/HTML:Zielgruppe Die Ausbildung richtet sich an Mita
 rbeitende von Kindergärten und Kindertageseinrichtungen\, die die Funktio
 n eines Brandschutzhelfers übernehmen oder ihr Wissen rund um vorbeugende
 n Brandschutz und richtiges Verhalten im Brandfall auffrischen möchten. I
 nhalte der Schulung Die Themen wurden passgenau auf die Anforderungen und 
 besonderen Herausforderungen in Kitas zugeschnitten. Die Teilnehmenden erh
 alten praxisnahe Kenntnisse\, die unmittelbar im&amp;hellip\;
CATEGORIES:Kindertageseinrichtungen
URL;VALUE=URI:https://meyer-hagen.de/mc-events/brandschutzhelfer-sammelschu
 lung-fuer-kindertageseinrichtungen/
METHOD:PUBLISH
END:VEVENT
END:VCALENDAR