BEGIN:VCALENDAR
VERSION:2.0
PRODID:spatie/icalendar-generator
DESCRIPTION:Veranstaltungen von Brandschutztechnik Meyer Hagen GmbH
X-WR-CALDESC:Veranstaltungen von Brandschutztechnik Meyer Hagen GmbH
REFRESH-INTERVAL;VALUE=DURATION:PT1440M
X-PUBLISHED-TTL:PT1440M
BEGIN:VTIMEZONE
TZID:Europe/Berlin
BEGIN:DAYLIGHT
DTSTART:20260329T020000Z
TZOFFSETFROM:+0100
TZOFFSETTO:+0200
END:DAYLIGHT
BEGIN:STANDARD
DTSTART:20261025T030000Z
TZOFFSETFROM:+0200
TZOFFSETTO:+0100
END:STANDARD
END:VTIMEZONE
BEGIN:VTIMEZONE
TZID:UTC
BEGIN:STANDARD
DTSTART:20250725T210347Z
TZOFFSETFROM:+0000
TZOFFSETTO:+0000
END:STANDARD
END:VTIMEZONE
BEGIN:VEVENT
UID:20-18
DTSTAMP:20260421T210347Z
SUMMARY:Löschtraining als Ergänzung zur Brandschutzhelferausbildung
LOCATION:Brandschutzzentrum Meyer-Hagen Heydastraße 13 - 15  Hagen NRW 580
 93
ORGANIZER;CN=Stefan Deitel:MAILTO:s.deitel@meyer-hagen.de
DTSTART;TZID=Europe/Berlin:20260807T140000
DTEND;TZID=Europe/Berlin:20260807T150000
X-ALT-DESC;FMTTYPE=TEXT/HTML:Ein praktisches Löschtraining ist die perfekt
 e Ergänzung zu Ihrer Brandschutzhelferschulung beim Brandschutzbeauftragt
 en. Während die Schulung die Grundlagen\, Pflichten und Abläufe im Brand
 fall vermittelt\, bietet das Löschtraining die Möglichkeit\, das Erlernt
 e aktiv und realitätsnah umzusetzen. Teilnehmende üben unter Anleitung d
 en sicheren Umgang mit verschiedenen Feuerlöschern und lernen\, Entstehun
 gsbrände richtig einzuschätzen und effektiv zu bekämpfen. Durch die&amp;hel
 lip\;
CATEGORIES:Löschtraining Ergänzung BSH
URL;VALUE=URI:https://meyer-hagen.de/mc-events/loeschtraining-als-ergaenzun
 g-zur-brandschutzhelferausbildung-2/
METHOD:PUBLISH
END:VEVENT
END:VCALENDAR